BEGIN:VCALENDAR
VERSION:2.0
PRODID:-//Rush County Indiana Government - ECPv5.10.1//NONSGML v1.0//EN
CALSCALE:GREGORIAN
METHOD:PUBLISH
X-WR-CALNAME:Rush County Indiana Government
X-ORIGINAL-URL:https://rushcounty.in.gov
X-WR-CALDESC:Events for Rush County Indiana Government
BEGIN:VTIMEZONE
TZID:America/Indiana/Indianapolis
BEGIN:DAYLIGHT
TZOFFSETFROM:-0500
TZOFFSETTO:-0400
TZNAME:EDT
DTSTART:20240310T070000
END:DAYLIGHT
BEGIN:STANDARD
TZOFFSETFROM:-0400
TZOFFSETTO:-0500
TZNAME:EST
DTSTART:20241103T060000
END:STANDARD
END:VTIMEZONE
BEGIN:VEVENT
DTSTART;TZID=America/Indiana/Indianapolis:20241104T090000
DTEND;TZID=America/Indiana/Indianapolis:20241104T090000
DTSTAMP:20260421T162916
CREATED:20231114T130102Z
LAST-MODIFIED:20231114T130102Z
UID:21538-1730710800-1730710800@rushcounty.in.gov
SUMMARY:Commissioners Meeting
DESCRIPTION:
URL:https://rushcounty.in.gov/event/commissioners-meeting-35/
END:VEVENT
BEGIN:VEVENT
DTSTART;TZID=America/Indiana/Indianapolis:20241113T090000
DTEND;TZID=America/Indiana/Indianapolis:20241113T090000
DTSTAMP:20260421T162916
CREATED:20231114T125026Z
LAST-MODIFIED:20231114T125026Z
UID:21506-1731488400-1731488400@rushcounty.in.gov
SUMMARY:Council Meeting
DESCRIPTION:
URL:https://rushcounty.in.gov/event/council-meeting-22/
END:VEVENT
BEGIN:VEVENT
DTSTART;TZID=America/Indiana/Indianapolis:20241118T090000
DTEND;TZID=America/Indiana/Indianapolis:20241118T090000
DTSTAMP:20260421T162916
CREATED:20231114T130102Z
LAST-MODIFIED:20231114T130102Z
UID:21539-1731920400-1731920400@rushcounty.in.gov
SUMMARY:Commissioners Meeting
DESCRIPTION:
URL:https://rushcounty.in.gov/event/commissioners-meeting-35/2024-11-18/
END:VEVENT
BEGIN:VEVENT
DTSTART;TZID=America/Indiana/Indianapolis:20241119T190000
DTEND;TZID=America/Indiana/Indianapolis:20241119T190000
DTSTAMP:20260421T162916
CREATED:20240103T193807Z
LAST-MODIFIED:20240103T193807Z
UID:21759-1732042800-1732042800@rushcounty.in.gov
SUMMARY:Rush County Health Board Meeting
DESCRIPTION:Held in the Assembly Room
URL:https://rushcounty.in.gov/event/rush-county-health-board-meeting-2/2024-11-19/
END:VEVENT
END:VCALENDAR