BEGIN:VCALENDAR
VERSION:2.0
PRODID:-//Rush County Indiana Government - ECPv5.10.1//NONSGML v1.0//EN
CALSCALE:GREGORIAN
METHOD:PUBLISH
X-WR-CALNAME:Rush County Indiana Government
X-ORIGINAL-URL:https://rushcounty.in.gov
X-WR-CALDESC:Events for Rush County Indiana Government
BEGIN:VTIMEZONE
TZID:America/Indiana/Indianapolis
BEGIN:DAYLIGHT
TZOFFSETFROM:-0500
TZOFFSETTO:-0400
TZNAME:EDT
DTSTART:20240310T070000
END:DAYLIGHT
BEGIN:STANDARD
TZOFFSETFROM:-0400
TZOFFSETTO:-0500
TZNAME:EST
DTSTART:20241103T060000
END:STANDARD
END:VTIMEZONE
BEGIN:VEVENT
DTSTART;TZID=America/Indiana/Indianapolis:20241007T090000
DTEND;TZID=America/Indiana/Indianapolis:20241007T090000
DTSTAMP:20260421T230543
CREATED:20231114T125912Z
LAST-MODIFIED:20231114T125912Z
UID:21534-1728291600-1728291600@rushcounty.in.gov
SUMMARY:Commissioners Meeting
DESCRIPTION:
URL:https://rushcounty.in.gov/event/commissioners-meeting-33/2024-10-07/
END:VEVENT
BEGIN:VEVENT
DTSTART;TZID=America/Indiana/Indianapolis:20241008T090000
DTEND;TZID=America/Indiana/Indianapolis:20241008T090000
DTSTAMP:20260421T230543
CREATED:20231114T124821Z
LAST-MODIFIED:20231114T124821Z
UID:21503-1728378000-1728378000@rushcounty.in.gov
SUMMARY:Council Meeting
DESCRIPTION:Budget Adoption
URL:https://rushcounty.in.gov/event/council-meeting-21/
END:VEVENT
BEGIN:VEVENT
DTSTART;TZID=America/Indiana/Indianapolis:20241009T090000
DTEND;TZID=America/Indiana/Indianapolis:20241009T090000
DTSTAMP:20260421T230543
CREATED:20231114T124821Z
LAST-MODIFIED:20231114T124821Z
UID:21504-1728464400-1728464400@rushcounty.in.gov
SUMMARY:Council Meeting
DESCRIPTION:Budget Adoption
URL:https://rushcounty.in.gov/event/council-meeting-21/2024-10-09/
END:VEVENT
BEGIN:VEVENT
DTSTART;TZID=America/Indiana/Indianapolis:20241018T090000
DTEND;TZID=America/Indiana/Indianapolis:20241018T090000
DTSTAMP:20260421T230543
CREATED:20231114T125959Z
LAST-MODIFIED:20231114T125959Z
UID:21536-1729242000-1729242000@rushcounty.in.gov
SUMMARY:Commissioners Meeting
DESCRIPTION:
URL:https://rushcounty.in.gov/event/commissioners-meeting-34/
END:VEVENT
BEGIN:VEVENT
DTSTART;TZID=America/Indiana/Indianapolis:20241029T133000
DTEND;TZID=America/Indiana/Indianapolis:20241029T133000
DTSTAMP:20260421T230543
CREATED:20241004T152836Z
LAST-MODIFIED:20241004T152836Z
UID:22981-1730208600-1730208600@rushcounty.in.gov
SUMMARY:PUBLIC DEFENDER BOARD
DESCRIPTION:Prosecutor’s Board Room 3rd Floor
URL:https://rushcounty.in.gov/event/public-defender-board/
END:VEVENT
END:VCALENDAR