BEGIN:VCALENDAR
VERSION:2.0
PRODID:-//Rush County Indiana Government - ECPv5.10.1//NONSGML v1.0//EN
CALSCALE:GREGORIAN
METHOD:PUBLISH
X-WR-CALNAME:Rush County Indiana Government
X-ORIGINAL-URL:https://rushcounty.in.gov
X-WR-CALDESC:Events for Rush County Indiana Government
BEGIN:VTIMEZONE
TZID:America/Indiana/Indianapolis
BEGIN:DAYLIGHT
TZOFFSETFROM:-0500
TZOFFSETTO:-0400
TZNAME:EDT
DTSTART:20230312T070000
END:DAYLIGHT
BEGIN:STANDARD
TZOFFSETFROM:-0400
TZOFFSETTO:-0500
TZNAME:EST
DTSTART:20231105T060000
END:STANDARD
END:VTIMEZONE
BEGIN:VEVENT
DTSTART;TZID=America/Indiana/Indianapolis:20231010T090000
DTEND;TZID=America/Indiana/Indianapolis:20231010T090000
DTSTAMP:20260421T193911
CREATED:20221115T134009Z
LAST-MODIFIED:20221115T134009Z
UID:19700-1696928400-1696928400@rushcounty.in.gov
SUMMARY:Council Meeting
DESCRIPTION:Budget Adoption
URL:https://rushcounty.in.gov/event/council-meeting-15/
END:VEVENT
BEGIN:VEVENT
DTSTART;TZID=America/Indiana/Indianapolis:20231011T090000
DTEND;TZID=America/Indiana/Indianapolis:20231011T090000
DTSTAMP:20260421T193911
CREATED:20221115T134104Z
LAST-MODIFIED:20221115T134104Z
UID:19702-1697014800-1697014800@rushcounty.in.gov
SUMMARY:Council Meeting
DESCRIPTION:Budget Adoption
URL:https://rushcounty.in.gov/event/council-meeting-16/
END:VEVENT
BEGIN:VEVENT
DTSTART;TZID=America/Indiana/Indianapolis:20231012T133000
DTEND;TZID=America/Indiana/Indianapolis:20231012T133000
DTSTAMP:20260421T193911
CREATED:20231004T123343Z
LAST-MODIFIED:20231004T123343Z
UID:21268-1697117400-1697117400@rushcounty.in.gov
SUMMARY:Public Defender Board Meeting
DESCRIPTION:
URL:https://rushcounty.in.gov/event/public-defender-board-meeting/
END:VEVENT
BEGIN:VEVENT
DTSTART;TZID=America/Indiana/Indianapolis:20231020T090000
DTEND;TZID=America/Indiana/Indianapolis:20231020T090000
DTSTAMP:20260421T193911
CREATED:20221115T132952Z
LAST-MODIFIED:20230801T145150Z
UID:19682-1697792400-1697792400@rushcounty.in.gov
SUMMARY:Commissioner Meeting
DESCRIPTION:
URL:https://rushcounty.in.gov/event/commissioner-meeting-56-2023-10-23/
END:VEVENT
BEGIN:VEVENT
DTSTART;TZID=America/Indiana/Indianapolis:20231023T080000
DTEND;TZID=America/Indiana/Indianapolis:20231023T080000
DTSTAMP:20260421T193911
CREATED:20230927T194150Z
LAST-MODIFIED:20230927T194150Z
UID:21257-1698048000-1698048000@rushcounty.in.gov
SUMMARY:Rush County Council Special meeting
DESCRIPTION:Solid Waste Budget
URL:https://rushcounty.in.gov/event/rush-county-council-special-meeting-3/
END:VEVENT
END:VCALENDAR