BEGIN:VCALENDAR
VERSION:2.0
PRODID:-//Rush County Indiana Government - ECPv5.10.1//NONSGML v1.0//EN
CALSCALE:GREGORIAN
METHOD:PUBLISH
X-WR-CALNAME:Rush County Indiana Government
X-ORIGINAL-URL:https://rushcounty.in.gov
X-WR-CALDESC:Events for Rush County Indiana Government
BEGIN:VTIMEZONE
TZID:America/Indiana/Indianapolis
BEGIN:DAYLIGHT
TZOFFSETFROM:-0500
TZOFFSETTO:-0400
TZNAME:EDT
DTSTART:20200308T070000
END:DAYLIGHT
BEGIN:STANDARD
TZOFFSETFROM:-0400
TZOFFSETTO:-0500
TZNAME:EST
DTSTART:20201101T060000
END:STANDARD
END:VTIMEZONE
BEGIN:VEVENT
DTSTART;VALUE=DATE:20200907
DTEND;VALUE=DATE:20200908
DTSTAMP:20260420T103803
CREATED:20191016T115413Z
LAST-MODIFIED:20191016T115413Z
UID:14916-1599436800-1599523199@rushcounty.in.gov
SUMMARY:Rush County Holiday
DESCRIPTION:
URL:https://rushcounty.in.gov/event/rush-county-holiday-6/
END:VEVENT
BEGIN:VEVENT
DTSTART;TZID=America/Indiana/Indianapolis:20200908T073000
DTEND;TZID=America/Indiana/Indianapolis:20200908T073000
DTSTAMP:20260420T103803
CREATED:20200901T135850Z
LAST-MODIFIED:20200901T135850Z
UID:15787-1599550200-1599550200@rushcounty.in.gov
SUMMARY:Commissioner Executive Session
DESCRIPTION:
URL:https://rushcounty.in.gov/event/commissioner-executive-session-5/
END:VEVENT
BEGIN:VEVENT
DTSTART;TZID=America/Indiana/Indianapolis:20200921T083000
DTEND;TZID=America/Indiana/Indianapolis:20200921T083000
DTSTAMP:20260420T103803
CREATED:20200917T131420Z
LAST-MODIFIED:20200917T131420Z
UID:15814-1600677000-1600677000@rushcounty.in.gov
SUMMARY:County Commissioners Special meeting
DESCRIPTION:
URL:https://rushcounty.in.gov/event/county-commissioners-special-meeting/
END:VEVENT
BEGIN:VEVENT
DTSTART;TZID=America/Indiana/Indianapolis:20200922T083000
DTEND;TZID=America/Indiana/Indianapolis:20200922T083000
DTSTAMP:20260420T103803
CREATED:20200917T143911Z
LAST-MODIFIED:20200917T143911Z
UID:15816-1600763400-1600763400@rushcounty.in.gov
SUMMARY:County Commissioner Executive Session
DESCRIPTION:
URL:https://rushcounty.in.gov/event/county-commissioner-executive-session/
END:VEVENT
BEGIN:VEVENT
DTSTART;TZID=America/Indiana/Indianapolis:20200930T090000
DTEND;TZID=America/Indiana/Indianapolis:20200930T090000
DTSTAMP:20260420T103803
CREATED:20200813T125428Z
LAST-MODIFIED:20200813T125428Z
UID:15724-1601456400-1601456400@rushcounty.in.gov
SUMMARY:County Council Budget Public Hearing
DESCRIPTION:
URL:https://rushcounty.in.gov/event/county-council-budget-public-hearing-2/
END:VEVENT
END:VCALENDAR