BEGIN:VCALENDAR
VERSION:2.0
PRODID:-//Rush County Indiana Government - ECPv5.10.1//NONSGML v1.0//EN
CALSCALE:GREGORIAN
METHOD:PUBLISH
X-WR-CALNAME:Rush County Indiana Government
X-ORIGINAL-URL:https://rushcounty.in.gov
X-WR-CALDESC:Events for Rush County Indiana Government
BEGIN:VTIMEZONE
TZID:America/Indiana/Indianapolis
BEGIN:DAYLIGHT
TZOFFSETFROM:-0500
TZOFFSETTO:-0400
TZNAME:EDT
DTSTART:20200308T070000
END:DAYLIGHT
BEGIN:STANDARD
TZOFFSETFROM:-0400
TZOFFSETTO:-0500
TZNAME:EST
DTSTART:20201101T060000
END:STANDARD
END:VTIMEZONE
BEGIN:VEVENT
DTSTART;TZID=America/Indiana/Indianapolis:20200812T090000
DTEND;TZID=America/Indiana/Indianapolis:20200812T090000
DTSTAMP:20260419T141409
CREATED:20200714T135807Z
LAST-MODIFIED:20200714T135807Z
UID:15640-1597222800-1597222800@rushcounty.in.gov
SUMMARY:County Council Meeting
DESCRIPTION:
URL:https://rushcounty.in.gov/event/county-council-meeting-5/
END:VEVENT
BEGIN:VEVENT
DTSTART;TZID=America/Indiana/Indianapolis:20200819T090000
DTEND;TZID=America/Indiana/Indianapolis:20200819T090000
DTSTAMP:20260419T141409
CREATED:20191016T102127Z
LAST-MODIFIED:20191016T102127Z
UID:14851-1597827600-1597827600@rushcounty.in.gov
SUMMARY:Council Meeting/Public Hearing Budget CANCELLED
DESCRIPTION:
URL:https://rushcounty.in.gov/event/council-meeting-public-hearing-budget/
END:VEVENT
BEGIN:VEVENT
DTSTART;TZID=America/Indiana/Indianapolis:20200820T090000
DTEND;TZID=America/Indiana/Indianapolis:20200820T090000
DTSTAMP:20260419T141409
CREATED:20200814T181309Z
LAST-MODIFIED:20200814T181309Z
UID:15737-1597914000-1597914000@rushcounty.in.gov
SUMMARY:County Council Budget Meeting
DESCRIPTION:
URL:https://rushcounty.in.gov/event/county-council-budget-meeting/
END:VEVENT
END:VCALENDAR