BEGIN:VCALENDAR
VERSION:2.0
PRODID:-//Rush County Indiana Government - ECPv5.10.1//NONSGML v1.0//EN
CALSCALE:GREGORIAN
METHOD:PUBLISH
X-WR-CALNAME:Rush County Indiana Government
X-ORIGINAL-URL:https://rushcounty.in.gov
X-WR-CALDESC:Events for Rush County Indiana Government
BEGIN:VTIMEZONE
TZID:America/Indiana/Indianapolis
BEGIN:DAYLIGHT
TZOFFSETFROM:-0500
TZOFFSETTO:-0400
TZNAME:EDT
DTSTART:20200308T070000
END:DAYLIGHT
BEGIN:STANDARD
TZOFFSETFROM:-0400
TZOFFSETTO:-0500
TZNAME:EST
DTSTART:20201101T060000
END:STANDARD
END:VTIMEZONE
BEGIN:VEVENT
DTSTART;TZID=America/Indiana/Indianapolis:20200106T090000
DTEND;TZID=America/Indiana/Indianapolis:20200106T090000
DTSTAMP:20260419T193950
CREATED:20191016T112005Z
LAST-MODIFIED:20191016T112005Z
UID:14864-1578301200-1578301200@rushcounty.in.gov
SUMMARY:Commissioner Meeting
DESCRIPTION:
URL:https://rushcounty.in.gov/event/commissioner-meeting-39/
END:VEVENT
BEGIN:VEVENT
DTSTART;TZID=America/Indiana/Indianapolis:20200108T090000
DTEND;TZID=America/Indiana/Indianapolis:20200108T090000
DTSTAMP:20260419T193950
CREATED:20191016T101609Z
LAST-MODIFIED:20191016T101609Z
UID:14833-1578474000-1578474000@rushcounty.in.gov
SUMMARY:Council Meeting
DESCRIPTION:
URL:https://rushcounty.in.gov/event/council-meeting-6/2020-01-08/
END:VEVENT
BEGIN:VEVENT
DTSTART;TZID=America/Indiana/Indianapolis:20200108T100000
DTEND;TZID=America/Indiana/Indianapolis:20200108T100000
DTSTAMP:20260419T193950
CREATED:20191231T183652Z
LAST-MODIFIED:20191231T183652Z
UID:15089-1578477600-1578477600@rushcounty.in.gov
SUMMARY:Commissioner\, Council Executive Meeting
DESCRIPTION:
URL:https://rushcounty.in.gov/event/commissioner-council-executive-meeting/
END:VEVENT
BEGIN:VEVENT
DTSTART;TZID=America/Indiana/Indianapolis:20200110T154500
DTEND;TZID=America/Indiana/Indianapolis:20200110T154500
DTSTAMP:20260419T193950
CREATED:20200108T185129Z
LAST-MODIFIED:20200108T185129Z
UID:15110-1578671100-1578671100@rushcounty.in.gov
SUMMARY:Commissioner Special Meeting
DESCRIPTION:
URL:https://rushcounty.in.gov/event/commissioner-special-meeting-4/
END:VEVENT
BEGIN:VEVENT
DTSTART;VALUE=DATE:20200120
DTEND;VALUE=DATE:20200121
DTSTAMP:20260419T193950
CREATED:20191016T115048Z
LAST-MODIFIED:20191016T115048Z
UID:14906-1579478400-1579564799@rushcounty.in.gov
SUMMARY:Rush County Holiday
DESCRIPTION:
URL:https://rushcounty.in.gov/event/rush-county-holiday/
END:VEVENT
BEGIN:VEVENT
DTSTART;TZID=America/Indiana/Indianapolis:20200121T090000
DTEND;TZID=America/Indiana/Indianapolis:20200121T090000
DTSTAMP:20260419T193950
CREATED:20191016T112046Z
LAST-MODIFIED:20191016T112046Z
UID:14866-1579597200-1579597200@rushcounty.in.gov
SUMMARY:Commissioner Meeting
DESCRIPTION:
URL:https://rushcounty.in.gov/event/commissioner-meeting-40/
END:VEVENT
END:VCALENDAR