BEGIN:VCALENDAR
VERSION:2.0
PRODID:-//Rush County Indiana Government - ECPv5.10.1//NONSGML v1.0//EN
CALSCALE:GREGORIAN
METHOD:PUBLISH
X-WR-CALNAME:Rush County Indiana Government
X-ORIGINAL-URL:https://rushcounty.in.gov
X-WR-CALDESC:Events for Rush County Indiana Government
BEGIN:VTIMEZONE
TZID:America/Indiana/Indianapolis
BEGIN:DAYLIGHT
TZOFFSETFROM:-0500
TZOFFSETTO:-0400
TZNAME:EDT
DTSTART:20190310T070000
END:DAYLIGHT
BEGIN:STANDARD
TZOFFSETFROM:-0400
TZOFFSETTO:-0500
TZNAME:EST
DTSTART:20191103T060000
END:STANDARD
END:VTIMEZONE
BEGIN:VEVENT
DTSTART;TZID=America/Indiana/Indianapolis:20191203T180000
DTEND;TZID=America/Indiana/Indianapolis:20191203T180000
DTSTAMP:20260420T013736
CREATED:20190109T171518Z
LAST-MODIFIED:20190109T171518Z
UID:14219-1575396000-1575396000@rushcounty.in.gov
SUMMARY:BZA Meeting CANCELLED
DESCRIPTION:
URL:https://rushcounty.in.gov/event/bza-meeting-7/
END:VEVENT
BEGIN:VEVENT
DTSTART;TZID=America/Indiana/Indianapolis:20191204T180000
DTEND;TZID=America/Indiana/Indianapolis:20191204T180000
DTSTAMP:20260420T013736
CREATED:20190109T165105Z
LAST-MODIFIED:20190109T165105Z
UID:14176-1575482400-1575482400@rushcounty.in.gov
SUMMARY:APC Meeting
DESCRIPTION:
URL:https://rushcounty.in.gov/event/apc-meeting-6/
END:VEVENT
BEGIN:VEVENT
DTSTART;TZID=America/Indiana/Indianapolis:20191209T090000
DTEND;TZID=America/Indiana/Indianapolis:20191209T090000
DTSTAMP:20260420T013736
CREATED:20181015T163650Z
LAST-MODIFIED:20181015T163650Z
UID:13852-1575882000-1575882000@rushcounty.in.gov
SUMMARY:Commissioner Meeting
DESCRIPTION:
URL:https://rushcounty.in.gov/event/commissioner-meeting-36/
END:VEVENT
BEGIN:VEVENT
DTSTART;TZID=America/Indiana/Indianapolis:20191211T090000
DTEND;TZID=America/Indiana/Indianapolis:20191211T090000
DTSTAMP:20260420T013736
CREATED:20191205T175334Z
LAST-MODIFIED:20191205T175334Z
UID:15033-1576054800-1576054800@rushcounty.in.gov
SUMMARY:Council Meeting Joint with Commissioners
DESCRIPTION:
URL:https://rushcounty.in.gov/event/council-meeting-joint-with-commissioners/
END:VEVENT
BEGIN:VEVENT
DTSTART;TZID=America/Indiana/Indianapolis:20191219T090000
DTEND;TZID=America/Indiana/Indianapolis:20191219T090000
DTSTAMP:20260420T013736
CREATED:20181015T163725Z
LAST-MODIFIED:20181015T163725Z
UID:13854-1576746000-1576746000@rushcounty.in.gov
SUMMARY:Commissioner Meeting
DESCRIPTION:
URL:https://rushcounty.in.gov/event/commissioner-meeting-37/
END:VEVENT
BEGIN:VEVENT
DTSTART;TZID=America/Indiana/Indianapolis:20191227T111000
DTEND;TZID=America/Indiana/Indianapolis:20191227T111000
DTSTAMP:20260420T013736
CREATED:20191223T184020Z
LAST-MODIFIED:20191223T184020Z
UID:15078-1577445000-1577445000@rushcounty.in.gov
SUMMARY:Commissioner Executive Session
DESCRIPTION:
URL:https://rushcounty.in.gov/event/commissioner-executive-session-4/
END:VEVENT
END:VCALENDAR