BEGIN:VCALENDAR
VERSION:2.0
PRODID:-//Rush County Indiana Government - ECPv5.10.1//NONSGML v1.0//EN
CALSCALE:GREGORIAN
METHOD:PUBLISH
X-WR-CALNAME:Rush County Indiana Government
X-ORIGINAL-URL:https://rushcounty.in.gov
X-WR-CALDESC:Events for Rush County Indiana Government
BEGIN:VTIMEZONE
TZID:America/Indiana/Indianapolis
BEGIN:DAYLIGHT
TZOFFSETFROM:-0500
TZOFFSETTO:-0400
TZNAME:EDT
DTSTART:20190310T070000
END:DAYLIGHT
BEGIN:STANDARD
TZOFFSETFROM:-0400
TZOFFSETTO:-0500
TZNAME:EST
DTSTART:20191103T060000
END:STANDARD
END:VTIMEZONE
BEGIN:VEVENT
DTSTART;TZID=America/Indiana/Indianapolis:20190610T090000
DTEND;TZID=America/Indiana/Indianapolis:20190610T090000
DTSTAMP:20260420T081105
CREATED:20181015T171430Z
LAST-MODIFIED:20181015T171430Z
UID:13906-1560157200-1560157200@rushcounty.in.gov
SUMMARY:Commissioner Meeting
DESCRIPTION:
URL:https://rushcounty.in.gov/event/commissioner-meeting-29/2019-06-10/
END:VEVENT
BEGIN:VEVENT
DTSTART;TZID=America/Indiana/Indianapolis:20190612T180000
DTEND;TZID=America/Indiana/Indianapolis:20190612T180000
DTSTAMP:20260420T081105
CREATED:20190109T165240Z
LAST-MODIFIED:20190109T165240Z
UID:14178-1560362400-1560362400@rushcounty.in.gov
SUMMARY:APC Meeting
DESCRIPTION:
URL:https://rushcounty.in.gov/event/apc-meeting-7/2019-06-12/
END:VEVENT
BEGIN:VEVENT
DTSTART;TZID=America/Indiana/Indianapolis:20190622T170000
DTEND;TZID=America/Indiana/Indianapolis:20190622T220000
DTSTAMP:20260420T081105
CREATED:20190523T165911Z
LAST-MODIFIED:20190523T165911Z
UID:14536-1561222800-1561240800@rushcounty.in.gov
SUMMARY:RUSH COUNTY FAIR
DESCRIPTION:VISIT: RUSHCOUNTYFAIRIN.COM
URL:https://rushcounty.in.gov/event/rush-county-fair-2/2019-06-22/
END:VEVENT
END:VCALENDAR