BEGIN:VCALENDAR
VERSION:2.0
PRODID:-//Rush County Indiana Government - ECPv5.10.1//NONSGML v1.0//EN
CALSCALE:GREGORIAN
METHOD:PUBLISH
X-WR-CALNAME:Rush County Indiana Government
X-ORIGINAL-URL:https://rushcounty.in.gov
X-WR-CALDESC:Events for Rush County Indiana Government
BEGIN:VTIMEZONE
TZID:America/Indiana/Indianapolis
BEGIN:DAYLIGHT
TZOFFSETFROM:-0500
TZOFFSETTO:-0400
TZNAME:EDT
DTSTART:20190310T070000
END:DAYLIGHT
BEGIN:STANDARD
TZOFFSETFROM:-0400
TZOFFSETTO:-0500
TZNAME:EST
DTSTART:20191103T060000
END:STANDARD
END:VTIMEZONE
BEGIN:VEVENT
DTSTART;TZID=America/Indiana/Indianapolis:20190107T080000
DTEND;TZID=America/Indiana/Indianapolis:20190107T080000
DTSTAMP:20260422T113221
CREATED:20181226T112810Z
LAST-MODIFIED:20181226T112810Z
UID:14138-1546848000-1546848000@rushcounty.in.gov
SUMMARY:Commissioner Executive Session
DESCRIPTION:
URL:https://rushcounty.in.gov/event/commissioner-executive-session-2/
END:VEVENT
BEGIN:VEVENT
DTSTART;TZID=America/Indiana/Indianapolis:20190107T090000
DTEND;TZID=America/Indiana/Indianapolis:20190107T090000
DTSTAMP:20260422T113222
CREATED:20181015T161308Z
LAST-MODIFIED:20181015T161308Z
UID:13815-1546851600-1546851600@rushcounty.in.gov
SUMMARY:Commissioner Meeting
DESCRIPTION:
URL:https://rushcounty.in.gov/event/commissioner-meeting-23/
END:VEVENT
BEGIN:VEVENT
DTSTART;TZID=America/Indiana/Indianapolis:20190108T180000
DTEND;TZID=America/Indiana/Indianapolis:20190108T180000
DTSTAMP:20260422T113222
CREATED:20190109T171420Z
LAST-MODIFIED:20190109T171420Z
UID:14197-1546970400-1546970400@rushcounty.in.gov
SUMMARY:BZA Meeting
DESCRIPTION:
URL:https://rushcounty.in.gov/event/bza-meeting-6/2019-01-08/
END:VEVENT
BEGIN:VEVENT
DTSTART;TZID=America/Indiana/Indianapolis:20190109T090000
DTEND;TZID=America/Indiana/Indianapolis:20190109T090000
DTSTAMP:20260422T113222
CREATED:20181015T172015Z
LAST-MODIFIED:20181015T172015Z
UID:13916-1547024400-1547024400@rushcounty.in.gov
SUMMARY:Council Meeting
DESCRIPTION:
URL:https://rushcounty.in.gov/event/council-meeting-3/2019-01-09/
END:VEVENT
BEGIN:VEVENT
DTSTART;TZID=America/Indiana/Indianapolis:20190109T180000
DTEND;TZID=America/Indiana/Indianapolis:20190109T180000
DTSTAMP:20260422T113222
CREATED:20190109T164644Z
LAST-MODIFIED:20190109T164644Z
UID:14169-1547056800-1547056800@rushcounty.in.gov
SUMMARY:APC Meeting
DESCRIPTION:
URL:https://rushcounty.in.gov/event/apc-meeting-4/2019-01-09/
END:VEVENT
BEGIN:VEVENT
DTSTART;TZID=America/Indiana/Indianapolis:20190115T190000
DTEND;TZID=America/Indiana/Indianapolis:20190115T190000
DTSTAMP:20260422T113222
CREATED:20181015T173136Z
LAST-MODIFIED:20181015T173136Z
UID:13935-1547578800-1547578800@rushcounty.in.gov
SUMMARY:Health Board Meeting
DESCRIPTION:
URL:https://rushcounty.in.gov/event/health-board-meeting-2/2019-01-15/
END:VEVENT
BEGIN:VEVENT
DTSTART;TZID=America/Indiana/Indianapolis:20190122T081500
DTEND;TZID=America/Indiana/Indianapolis:20190122T081500
DTSTAMP:20260422T113222
CREATED:20190116T194510Z
LAST-MODIFIED:20190116T194510Z
UID:14269-1548144900-1548144900@rushcounty.in.gov
SUMMARY:Rush County SWMD Board Meeting
DESCRIPTION:
URL:https://rushcounty.in.gov/event/rush-county-swmd-board-meeting/
END:VEVENT
BEGIN:VEVENT
DTSTART;TZID=America/Indiana/Indianapolis:20190122T090000
DTEND;TZID=America/Indiana/Indianapolis:20190122T090000
DTSTAMP:20260422T113222
CREATED:20181015T161402Z
LAST-MODIFIED:20181015T161402Z
UID:13817-1548147600-1548147600@rushcounty.in.gov
SUMMARY:Commissioner Meeting
DESCRIPTION:
URL:https://rushcounty.in.gov/event/commissioner-meeting-24/
END:VEVENT
BEGIN:VEVENT
DTSTART;TZID=America/Indiana/Indianapolis:20190122T183000
DTEND;TZID=America/Indiana/Indianapolis:20190122T183000
DTSTAMP:20260422T113222
CREATED:20190114T152324Z
LAST-MODIFIED:20190114T152324Z
UID:14261-1548181800-1548181800@rushcounty.in.gov
SUMMARY:Rush County Digital Connect Court House
DESCRIPTION:
URL:https://rushcounty.in.gov/event/rush-county-digital-connect-court-house/
END:VEVENT
END:VCALENDAR