BEGIN:VCALENDAR
VERSION:2.0
PRODID:-//Rush County Indiana Government - ECPv5.10.1//NONSGML v1.0//EN
CALSCALE:GREGORIAN
METHOD:PUBLISH
X-WR-CALNAME:Rush County Indiana Government
X-ORIGINAL-URL:https://rushcounty.in.gov
X-WR-CALDESC:Events for Rush County Indiana Government
BEGIN:VTIMEZONE
TZID:UTC
BEGIN:STANDARD
TZOFFSETFROM:+0000
TZOFFSETTO:+0000
TZNAME:UTC
DTSTART:20170101T000000
END:STANDARD
END:VTIMEZONE
BEGIN:VEVENT
DTSTART;TZID=UTC:20170612T090000
DTEND;TZID=UTC:20170612T103000
DTSTAMP:20260419T120846
CREATED:20170609T180839Z
LAST-MODIFIED:20170609T180839Z
UID:12446-1497258000-1497263400@rushcounty.in.gov
SUMMARY:Commissioners Meeting
DESCRIPTION:
URL:https://rushcounty.in.gov/event/commissioners-meeting/
LOCATION:Room 106
END:VEVENT
BEGIN:VEVENT
DTSTART;TZID=UTC:20170622T080000
DTEND;TZID=UTC:20170622T090000
DTSTAMP:20260419T120846
CREATED:20170619T192445Z
LAST-MODIFIED:20170619T192445Z
UID:12533-1498118400-1498122000@rushcounty.in.gov
SUMMARY:Joint Commissioner and Council Meeting
DESCRIPTION:
URL:https://rushcounty.in.gov/event/joint-commissioner-and-council-meeting/
END:VEVENT
BEGIN:VEVENT
DTSTART;TZID=UTC:20170626T090000
DTEND;TZID=UTC:20170626T103000
DTSTAMP:20260419T120846
CREATED:20170619T201340Z
LAST-MODIFIED:20170619T201340Z
UID:12567-1498467600-1498473000@rushcounty.in.gov
SUMMARY:Commissioners Meeting
DESCRIPTION:
URL:https://rushcounty.in.gov/event/commissioners-meeting-2/2017-06-26/
END:VEVENT
END:VCALENDAR