BEGIN:VCALENDAR
VERSION:2.0
PRODID:-//Rush County Indiana Government - ECPv5.10.1//NONSGML v1.0//EN
CALSCALE:GREGORIAN
METHOD:PUBLISH
X-WR-CALNAME:Rush County Indiana Government
X-ORIGINAL-URL:https://rushcounty.in.gov
X-WR-CALDESC:Events for Rush County Indiana Government
BEGIN:VTIMEZONE
TZID:America/Indiana/Indianapolis
BEGIN:DAYLIGHT
TZOFFSETFROM:-0500
TZOFFSETTO:-0400
TZNAME:EDT
DTSTART:20240310T070000
END:DAYLIGHT
BEGIN:STANDARD
TZOFFSETFROM:-0400
TZOFFSETTO:-0500
TZNAME:EST
DTSTART:20241103T060000
END:STANDARD
END:VTIMEZONE
BEGIN:VEVENT
DTSTART;TZID=America/Indiana/Indianapolis:20241205T180000
DTEND;TZID=America/Indiana/Indianapolis:20241205T180000
DTSTAMP:20260420T052630
CREATED:20241115T190821Z
LAST-MODIFIED:20241115T190821Z
UID:23305-1733421600-1733421600@rushcounty.in.gov
SUMMARY:Open Door and Public Access Meeting
DESCRIPTION:Rush County Court House Assembly Room
URL:https://rushcounty.in.gov/event/open-door-and-public-access-meeting/
END:VEVENT
END:VCALENDAR