BEGIN:VCALENDAR
VERSION:2.0
PRODID:-//Rush County Indiana Government - ECPv5.10.1//NONSGML v1.0//EN
CALSCALE:GREGORIAN
METHOD:PUBLISH
X-WR-CALNAME:Rush County Indiana Government
X-ORIGINAL-URL:https://rushcounty.in.gov
X-WR-CALDESC:Events for Rush County Indiana Government
BEGIN:VTIMEZONE
TZID:America/Indiana/Indianapolis
BEGIN:DAYLIGHT
TZOFFSETFROM:-0500
TZOFFSETTO:-0400
TZNAME:EDT
DTSTART:20230312T070000
END:DAYLIGHT
BEGIN:STANDARD
TZOFFSETFROM:-0400
TZOFFSETTO:-0500
TZNAME:EST
DTSTART:20231105T060000
END:STANDARD
END:VTIMEZONE
BEGIN:VEVENT
DTSTART;TZID=America/Indiana/Indianapolis:20230829T090000
DTEND;TZID=America/Indiana/Indianapolis:20230829T090000
DTSTAMP:20260419T180428
CREATED:20221115T133648Z
LAST-MODIFIED:20230801T145314Z
UID:20200-1693299600-1693299600@rushcounty.in.gov
SUMMARY:Council Meeting
DESCRIPTION:Commissioners and Council will have a Budget Workshop after the regular Council Meeting
URL:https://rushcounty.in.gov/event/council-meeting-14-2023-03-08-2023-04-12-2023-08-09/
END:VEVENT
END:VCALENDAR