BEGIN:VCALENDAR
VERSION:2.0
PRODID:-//Rush County Indiana Government - ECPv5.10.1//NONSGML v1.0//EN
CALSCALE:GREGORIAN
METHOD:PUBLISH
X-WR-CALNAME:Rush County Indiana Government
X-ORIGINAL-URL:https://rushcounty.in.gov
X-WR-CALDESC:Events for Rush County Indiana Government
BEGIN:VTIMEZONE
TZID:America/Indiana/Indianapolis
BEGIN:DAYLIGHT
TZOFFSETFROM:-0500
TZOFFSETTO:-0400
TZNAME:EDT
DTSTART:20210314T070000
END:DAYLIGHT
BEGIN:STANDARD
TZOFFSETFROM:-0400
TZOFFSETTO:-0500
TZNAME:EST
DTSTART:20211107T060000
END:STANDARD
END:VTIMEZONE
BEGIN:VEVENT
DTSTART;TZID=America/Indiana/Indianapolis:20210216T090000
DTEND;TZID=America/Indiana/Indianapolis:20210216T090000
DTSTAMP:20260419T141120
CREATED:20201123T151933Z
LAST-MODIFIED:20201123T151933Z
UID:16035-1613466000-1613466000@rushcounty.in.gov
SUMMARY:Commissioners Meeting COURT HOUSE CLOSED
DESCRIPTION:
URL:https://rushcounty.in.gov/event/commissioners-meeting-10/
END:VEVENT
END:VCALENDAR