BEGIN:VCALENDAR
VERSION:2.0
PRODID:-//Rush County Indiana Government - ECPv5.10.1//NONSGML v1.0//EN
CALSCALE:GREGORIAN
METHOD:PUBLISH
X-WR-CALNAME:Rush County Indiana Government
X-ORIGINAL-URL:https://rushcounty.in.gov
X-WR-CALDESC:Events for Rush County Indiana Government
BEGIN:VTIMEZONE
TZID:America/Indiana/Indianapolis
BEGIN:DAYLIGHT
TZOFFSETFROM:-0500
TZOFFSETTO:-0400
TZNAME:EDT
DTSTART:20210314T070000
END:DAYLIGHT
BEGIN:STANDARD
TZOFFSETFROM:-0400
TZOFFSETTO:-0500
TZNAME:EST
DTSTART:20211107T060000
END:STANDARD
END:VTIMEZONE
BEGIN:VEVENT
DTSTART;TZID=America/Indiana/Indianapolis:20210111T133000
DTEND;TZID=America/Indiana/Indianapolis:20210111T133000
DTSTAMP:20260419T103003
CREATED:20210107T142427Z
LAST-MODIFIED:20210107T142427Z
UID:16221-1610371800-1610371800@rushcounty.in.gov
SUMMARY:Special Commissioners Meeting
DESCRIPTION:
URL:https://rushcounty.in.gov/event/special-commissioners-meeting-2/
END:VEVENT
END:VCALENDAR