BEGIN:VCALENDAR
VERSION:2.0
PRODID:-//Rush County Indiana Government - ECPv5.10.1//NONSGML v1.0//EN
CALSCALE:GREGORIAN
METHOD:PUBLISH
X-WR-CALNAME:Rush County Indiana Government
X-ORIGINAL-URL:https://rushcounty.in.gov
X-WR-CALDESC:Events for Rush County Indiana Government
BEGIN:VTIMEZONE
TZID:America/Indiana/Indianapolis
BEGIN:DAYLIGHT
TZOFFSETFROM:-0500
TZOFFSETTO:-0400
TZNAME:EDT
DTSTART:20190310T070000
END:DAYLIGHT
BEGIN:STANDARD
TZOFFSETFROM:-0400
TZOFFSETTO:-0500
TZNAME:EST
DTSTART:20191103T060000
END:STANDARD
END:VTIMEZONE
BEGIN:VEVENT
DTSTART;TZID=America/Indiana/Indianapolis:20190516T090000
DTEND;TZID=America/Indiana/Indianapolis:20190516T090000
DTSTAMP:20260421T015703
CREATED:20190514T102012Z
LAST-MODIFIED:20190514T102012Z
UID:14523-1557997200-1557997200@rushcounty.in.gov
SUMMARY:Special Commissioners Meeting at Jail Construction Trailer
DESCRIPTION:
URL:https://rushcounty.in.gov/event/special-commissioners-meeting-at-jail-construction-trailer/
END:VEVENT
END:VCALENDAR