BEGIN:VCALENDAR
VERSION:2.0
PRODID:-//Rush County Indiana Government - ECPv5.10.1//NONSGML v1.0//EN
CALSCALE:GREGORIAN
METHOD:PUBLISH
X-WR-CALNAME:Rush County Indiana Government
X-ORIGINAL-URL:https://rushcounty.in.gov
X-WR-CALDESC:Events for Rush County Indiana Government
BEGIN:VTIMEZONE
TZID:America/Indiana/Indianapolis
BEGIN:DAYLIGHT
TZOFFSETFROM:-0500
TZOFFSETTO:-0400
TZNAME:EDT
DTSTART:20190310T070000
END:DAYLIGHT
BEGIN:STANDARD
TZOFFSETFROM:-0400
TZOFFSETTO:-0500
TZNAME:EST
DTSTART:20191103T060000
END:STANDARD
END:VTIMEZONE
BEGIN:VEVENT
DTSTART;TZID=America/Indiana/Indianapolis:20190220T081500
DTEND;TZID=America/Indiana/Indianapolis:20190220T081500
DTSTAMP:20260423T113007
CREATED:20190213T192431Z
LAST-MODIFIED:20190213T192431Z
UID:14342-1550650500-1550650500@rushcounty.in.gov
SUMMARY:Rush County Redevelopment Commission  RM 212
DESCRIPTION:
URL:https://rushcounty.in.gov/event/rush-county-redevelopment-commission-rm-212/
END:VEVENT
BEGIN:VEVENT
DTSTART;TZID=America/Indiana/Indianapolis:20190220T183000
DTEND;TZID=America/Indiana/Indianapolis:20190220T183000
DTSTAMP:20260423T113007
CREATED:20190207T105547Z
LAST-MODIFIED:20190207T105547Z
UID:14317-1550687400-1550687400@rushcounty.in.gov
SUMMARY:Broadband Task Force Digital Connect
DESCRIPTION:
URL:https://rushcounty.in.gov/event/broadband-task-force-digital-connect/
END:VEVENT
END:VCALENDAR