BEGIN:VCALENDAR
VERSION:2.0
PRODID:-//Rush County Indiana Government - ECPv5.10.1//NONSGML v1.0//EN
CALSCALE:GREGORIAN
METHOD:PUBLISH
X-WR-CALNAME:Rush County Indiana Government
X-ORIGINAL-URL:https://rushcounty.in.gov
X-WR-CALDESC:Events for Rush County Indiana Government
BEGIN:VTIMEZONE
TZID:UTC
BEGIN:STANDARD
TZOFFSETFROM:+0000
TZOFFSETTO:+0000
TZNAME:UTC
DTSTART:20170101T000000
END:STANDARD
END:VTIMEZONE
BEGIN:VEVENT
DTSTART;TZID=UTC:20170703T080000
DTEND;TZID=UTC:20170703T090000
DTSTAMP:20260419T120156
CREATED:20170627T195052Z
LAST-MODIFIED:20170627T195052Z
UID:12639-1499068800-1499072400@rushcounty.in.gov
SUMMARY:Special Commissioner and Council Meeting
DESCRIPTION:Special Commissioner and Council Meeting in the EMA Room
URL:https://rushcounty.in.gov/event/12639/
END:VEVENT
END:VCALENDAR