BEGIN:VCALENDAR
VERSION:2.0
PRODID:-//Rush County Indiana Government - ECPv5.10.1//NONSGML v1.0//EN
CALSCALE:GREGORIAN
METHOD:PUBLISH
X-WR-CALNAME:Rush County Indiana Government
X-ORIGINAL-URL:https://rushcounty.in.gov
X-WR-CALDESC:Events for Rush County Indiana Government
BEGIN:VTIMEZONE
TZID:UTC
BEGIN:STANDARD
TZOFFSETFROM:+0000
TZOFFSETTO:+0000
TZNAME:UTC
DTSTART:20170101T000000
END:STANDARD
END:VTIMEZONE
BEGIN:VEVENT
DTSTART;TZID=UTC:20170905T180000
DTEND;TZID=UTC:20170905T190000
DTSTAMP:20260421T112219
CREATED:20170901T135644Z
LAST-MODIFIED:20170901T135644Z
UID:12821-1504634400-1504638000@rushcounty.in.gov
SUMMARY:Special APC Meeting
DESCRIPTION:
URL:https://rushcounty.in.gov/event/special-apc-meeting/
END:VEVENT
END:VCALENDAR