BEGIN:VCALENDAR
VERSION:2.0
PRODID:-//Rush County Indiana Government - ECPv5.10.1//NONSGML v1.0//EN
CALSCALE:GREGORIAN
METHOD:PUBLISH
X-WR-CALNAME:Rush County Indiana Government
X-ORIGINAL-URL:https://rushcounty.in.gov
X-WR-CALDESC:Events for Rush County Indiana Government
BEGIN:VTIMEZONE
TZID:UTC
BEGIN:STANDARD
TZOFFSETFROM:+0000
TZOFFSETTO:+0000
TZNAME:UTC
DTSTART:20180101T000000
END:STANDARD
END:VTIMEZONE
BEGIN:VEVENT
DTSTART;TZID=UTC:20180411T090000
DTEND;TZID=UTC:20180411T090000
DTSTAMP:20260420T224536
CREATED:20171129T174600Z
LAST-MODIFIED:20171129T174600Z
UID:13088-1523437200-1523437200@rushcounty.in.gov
SUMMARY:Commissioner Joint Council Meeting
DESCRIPTION:
URL:https://rushcounty.in.gov/event/commissioner-meeting-8/
END:VEVENT
END:VCALENDAR